BEGIN:VCALENDAR
VERSION:2.0
PRODID:-//CORBA - ECPv6.15.20//NONSGML v1.0//EN
CALSCALE:GREGORIAN
METHOD:PUBLISH
X-ORIGINAL-URL:https://corbatrails.org
X-WR-CALDESC:Events for CORBA
REFRESH-INTERVAL;VALUE=DURATION:PT1H
X-Robots-Tag:noindex
X-PUBLISHED-TTL:PT1H
BEGIN:VTIMEZONE
TZID:America/Chicago
BEGIN:DAYLIGHT
TZOFFSETFROM:-0600
TZOFFSETTO:-0500
TZNAME:CDT
DTSTART:20240310T080000
END:DAYLIGHT
BEGIN:STANDARD
TZOFFSETFROM:-0500
TZOFFSETTO:-0600
TZNAME:CST
DTSTART:20241103T070000
END:STANDARD
BEGIN:DAYLIGHT
TZOFFSETFROM:-0600
TZOFFSETTO:-0500
TZNAME:CDT
DTSTART:20250309T080000
END:DAYLIGHT
BEGIN:STANDARD
TZOFFSETFROM:-0500
TZOFFSETTO:-0600
TZNAME:CST
DTSTART:20251102T070000
END:STANDARD
BEGIN:DAYLIGHT
TZOFFSETFROM:-0600
TZOFFSETTO:-0500
TZNAME:CDT
DTSTART:20260308T080000
END:DAYLIGHT
BEGIN:STANDARD
TZOFFSETFROM:-0500
TZOFFSETTO:-0600
TZNAME:CST
DTSTART:20261101T070000
END:STANDARD
END:VTIMEZONE
BEGIN:VEVENT
DTSTART;TZID=America/Chicago:20251103T173000
DTEND;TZID=America/Chicago:20251103T200000
DTSTAMP:20260424T163703
CREATED:20250314T173125Z
LAST-MODIFIED:20250314T173125Z
UID:12770-1762191000-1762200000@corbatrails.org
SUMMARY:Monday Night Group Ride (Weather and Trails Pending)
DESCRIPTION:Monday Night Group Ride @ Lowes Creek. See the CORBA Trails Community Facebook page (https://www.facebook.com/groups/corbacommunity) for updates!
URL:https://corbatrails.org/calendar/monday-night-group-ride-weather-and-trails-pending-33/
LOCATION:Lowes Creek County Park\, 5238 S Lowes Creek Rd\, Eau Claire\, WI\, 54701\, United States
CATEGORIES:Group Ride
ORGANIZER;CN="CORBA":MAILTO:info@corbatrails.org
END:VEVENT
BEGIN:VEVENT
DTSTART;TZID=America/Chicago:20251110T173000
DTEND;TZID=America/Chicago:20251110T200000
DTSTAMP:20260424T163703
CREATED:20250314T173125Z
LAST-MODIFIED:20250314T173125Z
UID:12771-1762795800-1762804800@corbatrails.org
SUMMARY:Monday Night Group Ride (Weather and Trails Pending)
DESCRIPTION:Monday Night Group Ride @ Lowes Creek. See the CORBA Trails Community Facebook page (https://www.facebook.com/groups/corbacommunity) for updates!
URL:https://corbatrails.org/calendar/monday-night-group-ride-weather-and-trails-pending-34/
LOCATION:Lowes Creek County Park\, 5238 S Lowes Creek Rd\, Eau Claire\, WI\, 54701\, United States
CATEGORIES:Group Ride
ORGANIZER;CN="CORBA":MAILTO:info@corbatrails.org
END:VEVENT
BEGIN:VEVENT
DTSTART;TZID=America/Chicago:20251117T173000
DTEND;TZID=America/Chicago:20251117T200000
DTSTAMP:20260424T163703
CREATED:20250314T173126Z
LAST-MODIFIED:20250314T173126Z
UID:12772-1763400600-1763409600@corbatrails.org
SUMMARY:Monday Night Group Ride (Weather and Trails Pending)
DESCRIPTION:Monday Night Group Ride @ Lowes Creek. See the CORBA Trails Community Facebook page (https://www.facebook.com/groups/corbacommunity) for updates!
URL:https://corbatrails.org/calendar/monday-night-group-ride-weather-and-trails-pending-35/
LOCATION:Lowes Creek County Park\, 5238 S Lowes Creek Rd\, Eau Claire\, WI\, 54701\, United States
CATEGORIES:Group Ride
ORGANIZER;CN="CORBA":MAILTO:info@corbatrails.org
END:VEVENT
BEGIN:VEVENT
DTSTART;TZID=America/Chicago:20251124T173000
DTEND;TZID=America/Chicago:20251124T200000
DTSTAMP:20260424T163703
CREATED:20250314T173225Z
LAST-MODIFIED:20250314T173225Z
UID:12773-1764005400-1764014400@corbatrails.org
SUMMARY:Monday Night Group Ride (Weather and Trails Pending)
DESCRIPTION:Monday Night Group Ride @ Lowes Creek. See the CORBA Trails Community Facebook page (https://www.facebook.com/groups/corbacommunity) for updates!
URL:https://corbatrails.org/calendar/monday-night-group-ride-weather-and-trails-pending-36/
LOCATION:Lowes Creek County Park\, 5238 S Lowes Creek Rd\, Eau Claire\, WI\, 54701\, United States
CATEGORIES:Group Ride
ORGANIZER;CN="CORBA":MAILTO:info@corbatrails.org
END:VEVENT
END:VCALENDAR